BEGIN:VCALENDAR
VERSION:2.0
PRODID:Events Booking
BEGIN:VEVENT
UID:69ea0dd213f5b
SUMMARY:Buono Memes - NA\, NAAA!
DESCRIPTION:
DTSTART:20261023T180000Z
DTSTAMP:20260423T073342Z
ORGANIZER;CN=Europahaus Mayrhofen:MAILTO:office@europahaus.at
END:VEVENT
END:VCALENDAR