BEGIN:VCALENDAR
VERSION:2.0
PRODID:Events Booking
BEGIN:VEVENT
UID:69ea0e7427e90
SUMMARY:Firmenveranstaltung 
DESCRIPTION:
DTSTART:20260618T220000Z
DTEND:20260620T220000Z
DTSTAMP:20240806T102810Z
ORGANIZER;CN=Europahaus Mayrhofen:MAILTO:office@europahaus.at
END:VEVENT
END:VCALENDAR