BEGIN:VCALENDAR
VERSION:2.0
PRODID:Events Booking
BEGIN:VEVENT
UID:69ea0e1c65e55
SUMMARY:Firmenveranstaltung  
DESCRIPTION:
DTSTART:20260624T220000Z
DTEND:20260628T220000Z
DTSTAMP:20240806T102810Z
ORGANIZER;CN=Europahaus Mayrhofen:MAILTO:office@europahaus.at
END:VEVENT
END:VCALENDAR