BEGIN:VCALENDAR
VERSION:2.0
PRODID:Events Booking
BEGIN:VEVENT
UID:69ea0daea7412
SUMMARY:Firmenveranstaltung  
DESCRIPTION:
DTSTART:20261012T220000Z
DTEND:20261015T220000Z
DTSTAMP:20240806T102810Z
ORGANIZER;CN=Europahaus Mayrhofen:MAILTO:office@europahaus.at
END:VEVENT
END:VCALENDAR