BEGIN:VCALENDAR
VERSION:2.0
PRODID:Events Booking
BEGIN:VEVENT
UID:69ea0ef2cea9f
SUMMARY:Firmenveranstaltung   
DESCRIPTION:
DTSTART:20261110T230000Z
DTEND:20261113T230000Z
DTSTAMP:20240806T102810Z
ORGANIZER;CN=Europahaus Mayrhofen:MAILTO:office@europahaus.at
END:VEVENT
END:VCALENDAR