BEGIN:VCALENDAR
VERSION:2.0
PRODID:Events Booking
BEGIN:VEVENT
UID:69ea0e0e716e2
SUMMARY:Tourism Fast Forward 
DESCRIPTION:
DTSTART:20261117T230000Z
DTEND:20261118T230000Z
DTSTAMP:20240806T102810Z
ORGANIZER;CN=Europahaus Mayrhofen:MAILTO:office@europahaus.at
END:VEVENT
END:VCALENDAR