BEGIN:VCALENDAR
VERSION:2.0
PRODID:Events Booking
BEGIN:VEVENT
UID:69ea0f4547537
SUMMARY:Original Alpenoberkrainer 
DESCRIPTION:
DTSTART:20260530T180000Z
DTSTAMP:20240806T102810Z
ORGANIZER;CN=Europahaus Mayrhofen:MAILTO:office@europahaus.at
END:VEVENT
END:VCALENDAR